BEGIN:VCALENDAR
VERSION:2.0
PRODID:-//Plato Academy - ECPv6.15.20//NONSGML v1.0//EN
CALSCALE:GREGORIAN
METHOD:PUBLISH
X-WR-CALNAME:Plato Academy
X-ORIGINAL-URL:https://platoacademy.net
X-WR-CALDESC:Events for Plato Academy
REFRESH-INTERVAL;VALUE=DURATION:PT1H
X-Robots-Tag:noindex
X-PUBLISHED-TTL:PT1H
BEGIN:VTIMEZONE
TZID:UTC
BEGIN:STANDARD
TZOFFSETFROM:+0000
TZOFFSETTO:+0000
TZNAME:UTC
DTSTART:20220101T000000
END:STANDARD
END:VTIMEZONE
BEGIN:VTIMEZONE
TZID:America/New_York
BEGIN:DAYLIGHT
TZOFFSETFROM:-0500
TZOFFSETTO:-0400
TZNAME:EDT
DTSTART:20220313T070000
END:DAYLIGHT
BEGIN:STANDARD
TZOFFSETFROM:-0400
TZOFFSETTO:-0500
TZNAME:EST
DTSTART:20221106T060000
END:STANDARD
BEGIN:DAYLIGHT
TZOFFSETFROM:-0500
TZOFFSETTO:-0400
TZNAME:EDT
DTSTART:20230312T070000
END:DAYLIGHT
BEGIN:STANDARD
TZOFFSETFROM:-0400
TZOFFSETTO:-0500
TZNAME:EST
DTSTART:20231105T060000
END:STANDARD
BEGIN:DAYLIGHT
TZOFFSETFROM:-0500
TZOFFSETTO:-0400
TZNAME:EDT
DTSTART:20240310T070000
END:DAYLIGHT
BEGIN:STANDARD
TZOFFSETFROM:-0400
TZOFFSETTO:-0500
TZNAME:EST
DTSTART:20241103T060000
END:STANDARD
END:VTIMEZONE
BEGIN:VEVENT
DTSTART;TZID=UTC:20230905T090000
DTEND;TZID=UTC:20230911T150000
DTSTAMP:20260422T111724
CREATED:20230906T201428Z
LAST-MODIFIED:20230906T202544Z
UID:237367-1693904400-1694444400@platoacademy.net
SUMMARY:F.A.S.T. testing dates 2023
DESCRIPTION:Testing dates for the first progress monitoring session will be changed due to impacts of our hurricane days. Please see the new dates below. \n  \n9/5 Middle School ELA \n9/6 Elementary ELA starting @ 9:40 \n9/8 Middle School Math \n9/11 Elementary School Math
URL:https://platoacademy.net/event/f-a-s-t-testing-dates-2023/
LOCATION:Clearwater\, 2045 Palmetto Street\, Clearwater\, FL\, 33765\, United States
CATEGORIES:Clearwater
ATTACH;FMTTYPE=image/webp:https://platoacademy.net/wp-content/uploads/2023/09/test-dates.webp
END:VEVENT
BEGIN:VEVENT
DTSTART;VALUE=DATE:20230907
DTEND;VALUE=DATE:20230916
DTSTAMP:20260422T111724
CREATED:20230907T015910Z
LAST-MODIFIED:20230907T015910Z
UID:237373-1694044800-1694822399@platoacademy.net
SUMMARY:F.A.S.T. Assessment PM1
DESCRIPTION:
URL:https://platoacademy.net/event/f-a-s-t-assessment-pm1/
LOCATION:FL
CATEGORIES:Palm Harbor
ATTACH;FMTTYPE=image/webp:https://platoacademy.net/wp-content/uploads/2023/09/fast_ph.webp
END:VEVENT
BEGIN:VEVENT
DTSTART;TZID=America/New_York:20230909T130000
DTEND;TZID=America/New_York:20230909T160000
DTSTAMP:20260422T111724
CREATED:20230831T173226Z
LAST-MODIFIED:20230901T182215Z
UID:237306-1694264400-1694275200@platoacademy.net
SUMMARY:Back to School picnic
DESCRIPTION:Save the date for our back to school picnic. We’ll have pizza\, drinks and 2 bounce houses!
URL:https://platoacademy.net/event/back-to-school-picnic-plato-academy-clearwater/
LOCATION:FL
CATEGORIES:Clearwater
ATTACH;FMTTYPE=image/webp:https://platoacademy.net/wp-content/uploads/2023/08/picnic-cw.webp
END:VEVENT
END:VCALENDAR