BEGIN:VCALENDAR
VERSION:2.0
PRODID:-//Plato Academy - ECPv6.15.20//NONSGML v1.0//EN
CALSCALE:GREGORIAN
METHOD:PUBLISH
X-WR-CALNAME:Plato Academy
X-ORIGINAL-URL:https://platoacademy.net
X-WR-CALDESC:Events for Plato Academy
REFRESH-INTERVAL;VALUE=DURATION:PT1H
X-Robots-Tag:noindex
X-PUBLISHED-TTL:PT1H
BEGIN:VTIMEZONE
TZID:UTC
BEGIN:STANDARD
TZOFFSETFROM:+0000
TZOFFSETTO:+0000
TZNAME:UTC
DTSTART:20220101T000000
END:STANDARD
END:VTIMEZONE
BEGIN:VEVENT
DTSTART;TZID=UTC:20230928T090000
DTEND;TZID=UTC:20230928T120000
DTSTAMP:20260422T095237
CREATED:20230907T021855Z
LAST-MODIFIED:20230907T021855Z
UID:237389-1695891600-1695902400@platoacademy.net
SUMMARY:Kona Ice
DESCRIPTION:
URL:https://platoacademy.net/event/kona-ice-2/
LOCATION:Palm Harbor\, 1601 Curlew Road\, Palm Harbor\, FL\, 34683\, United States
CATEGORIES:Palm Harbor
ATTACH;FMTTYPE=image/webp:https://platoacademy.net/wp-content/uploads/2023/09/kona.webp
END:VEVENT
BEGIN:VEVENT
DTSTART;TZID=UTC:20230928T173000
DTEND;TZID=UTC:20230928T190000
DTSTAMP:20260422T095237
CREATED:20230925T193749Z
LAST-MODIFIED:20230925T194111Z
UID:237469-1695922200-1695927600@platoacademy.net
SUMMARY:Curriculum Night - Middle School
DESCRIPTION:
URL:https://platoacademy.net/event/curriculum-night-middle-school/
LOCATION:Clearwater\, 2045 Palmetto Street\, Clearwater\, FL\, 33765\, United States
CATEGORIES:Clearwater
ATTACH;FMTTYPE=image/webp:https://platoacademy.net/wp-content/uploads/2023/09/curriculum-.webp
END:VEVENT
END:VCALENDAR