BEGIN:VCALENDAR
VERSION:2.0
PRODID:-//Plato Academy - ECPv6.15.20//NONSGML v1.0//EN
CALSCALE:GREGORIAN
METHOD:PUBLISH
X-WR-CALNAME:Plato Academy
X-ORIGINAL-URL:https://platoacademy.net
X-WR-CALDESC:Events for Plato Academy
REFRESH-INTERVAL;VALUE=DURATION:PT1H
X-Robots-Tag:noindex
X-PUBLISHED-TTL:PT1H
BEGIN:VTIMEZONE
TZID:UTC
BEGIN:STANDARD
TZOFFSETFROM:+0000
TZOFFSETTO:+0000
TZNAME:UTC
DTSTART:20220101T000000
END:STANDARD
END:VTIMEZONE
BEGIN:VEVENT
DTSTART;TZID=UTC:20230929T090000
DTEND;TZID=UTC:20230929T130000
DTSTAMP:20260422T094924
CREATED:20230906T193409Z
LAST-MODIFIED:20230906T193513Z
UID:237349-1695978000-1695992400@platoacademy.net
SUMMARY:Field Day 2023-2024 (K-8)
DESCRIPTION:Field Day is coming up fast (Sept 29th)!\nclick below to check out the signupgenius to help us run this\namazing event! \nhttps://www.signupgenius.com/go/10C0E4CAAAF2DA4FBC25-field1 \n  \nClick the link below to learn more about how field day will look!\nhttps://www.smore.com/nfqtyj
URL:https://platoacademy.net/event/field-day-2023-2024/
LOCATION:Clearwater\, 2045 Palmetto Street\, Clearwater\, FL\, 33765\, United States
CATEGORIES:Clearwater
ATTACH;FMTTYPE=image/webp:https://platoacademy.net/wp-content/uploads/2023/09/Field-Day.webp
END:VEVENT
END:VCALENDAR