BEGIN:VCALENDAR
VERSION:2.0
PRODID:-//Plato Academy - ECPv6.15.20//NONSGML v1.0//EN
CALSCALE:GREGORIAN
METHOD:PUBLISH
X-WR-CALNAME:Plato Academy
X-ORIGINAL-URL:https://platoacademy.net
X-WR-CALDESC:Events for Plato Academy
REFRESH-INTERVAL;VALUE=DURATION:PT1H
X-Robots-Tag:noindex
X-PUBLISHED-TTL:PT1H
BEGIN:VTIMEZONE
TZID:America/New_York
BEGIN:DAYLIGHT
TZOFFSETFROM:-0500
TZOFFSETTO:-0400
TZNAME:EDT
DTSTART:20250309T070000
END:DAYLIGHT
BEGIN:STANDARD
TZOFFSETFROM:-0400
TZOFFSETTO:-0500
TZNAME:EST
DTSTART:20251102T060000
END:STANDARD
BEGIN:DAYLIGHT
TZOFFSETFROM:-0500
TZOFFSETTO:-0400
TZNAME:EDT
DTSTART:20260308T070000
END:DAYLIGHT
BEGIN:STANDARD
TZOFFSETFROM:-0400
TZOFFSETTO:-0500
TZNAME:EST
DTSTART:20261101T060000
END:STANDARD
BEGIN:DAYLIGHT
TZOFFSETFROM:-0500
TZOFFSETTO:-0400
TZNAME:EDT
DTSTART:20270314T070000
END:DAYLIGHT
BEGIN:STANDARD
TZOFFSETFROM:-0400
TZOFFSETTO:-0500
TZNAME:EST
DTSTART:20271107T060000
END:STANDARD
END:VTIMEZONE
BEGIN:VEVENT
DTSTART;TZID=America/New_York:20260421T093000
DTEND;TZID=America/New_York:20260421T133000
DTSTAMP:20260421T052829
CREATED:20260417T220325Z
LAST-MODIFIED:20260417T220325Z
UID:253498-1776763800-1776778200@platoacademy.net
SUMMARY:Spring Concert (Plato St. Petersburg)
DESCRIPTION:Grades K\, 2nd\, 4th – 9:30am \nGrades 1st\, 3rd\, 5th – 12:30pm
URL:https://platoacademy.net/event/spring-concert-plato-pinellas-park-2026/
LOCATION:Pinellas Park\, 9200 49th Street\, Pinellas Park\, FL\, 33782\, United States
CATEGORIES:Pinellas Park
ATTACH;FMTTYPE=image/webp:https://platoacademy.net/wp-content/uploads/2026/04/Spring-Concert-1.webp
END:VEVENT
END:VCALENDAR