BEGIN:VCALENDAR
VERSION:2.0
PRODID:-//Plato Academy - ECPv6.15.20//NONSGML v1.0//EN
CALSCALE:GREGORIAN
METHOD:PUBLISH
X-ORIGINAL-URL:https://platoacademy.net
X-WR-CALDESC:Events for Plato Academy
REFRESH-INTERVAL;VALUE=DURATION:PT1H
X-Robots-Tag:noindex
X-PUBLISHED-TTL:PT1H
BEGIN:VTIMEZONE
TZID:UTC
BEGIN:STANDARD
TZOFFSETFROM:+0000
TZOFFSETTO:+0000
TZNAME:UTC
DTSTART:20230101T000000
END:STANDARD
END:VTIMEZONE
BEGIN:VEVENT
DTSTART;VALUE=DATE:20240503
DTEND;VALUE=DATE:20240504
DTSTAMP:20260422T050048
CREATED:20240219T200154Z
LAST-MODIFIED:20240219T200154Z
UID:240406-1714694400-1714780799@platoacademy.net
SUMMARY:Non Student Day
DESCRIPTION:Non Student Day
URL:https://platoacademy.net/event/non-student-day-2/
CATEGORIES:All Campus Locations
ATTACH;FMTTYPE=image/webp:https://platoacademy.net/wp-content/uploads/2024/02/non-student-day.webp
END:VEVENT
END:VCALENDAR