BEGIN:VCALENDAR
VERSION:2.0
PRODID:-//Plato Academy - ECPv6.15.20//NONSGML v1.0//EN
CALSCALE:GREGORIAN
METHOD:PUBLISH
X-WR-CALNAME:Plato Academy
X-ORIGINAL-URL:https://platoacademy.net
X-WR-CALDESC:Events for Plato Academy
REFRESH-INTERVAL;VALUE=DURATION:PT1H
X-Robots-Tag:noindex
X-PUBLISHED-TTL:PT1H
BEGIN:VTIMEZONE
TZID:UTC
BEGIN:STANDARD
TZOFFSETFROM:+0000
TZOFFSETTO:+0000
TZNAME:UTC
DTSTART:20230101T000000
END:STANDARD
END:VTIMEZONE
BEGIN:VEVENT
DTSTART;TZID=UTC:20240302T190000
DTEND;TZID=UTC:20240302T230000
DTSTAMP:20260425T062008
CREATED:20240121T225856Z
LAST-MODIFIED:20250707T170736Z
UID:239706-1709406000-1709420400@platoacademy.net
SUMMARY:Plato GALA 2024 - Celebrating 20 Years of Student Success
DESCRIPTION: \n\n \n \nPlato Education Foundation\n\n\nJoin Us in A Celebration of 20 Years of Excellence\n\n\n\nat Plato Academy Schools!\n\n\n\nFamilies\, Educators\, School Staff and Friends of Plato Academy Schools \n\n\n\nSave the date: \n\n\n\nMarch 2nd\, 2024\n\n\n\n7pm up to 11 pm \n\n\n\nChristopoulos Hall\n\n\n\n2045 Palmetto Str. Clearwater\, FL \n\n\n\n  \n\n\n\n\n\nCelebrating Plato Academy Schools 20th Anniversary of Student Success! \n\n\n\nWe’re proud to mark two decades of student success at Plato Academy Schools. It’s a journey that began with a single campus in 2004 and has grown into a network of successful K-8 schools that continuously pursue excellence\, while shaping young minds and empowering the leaders of tomorrow. \n\n\n\nJoin us in this event and be a part of our special 20th anniversary celebration\, where we’ll reminisce about the milestones\, the achievements\, and the countless memories that make Plato Academy Schools a beacon of educational brilliance. \n\n\n\nFor more information and online tickets\, visit: https://platoeducationfoundation.com/20years
URL:https://platoacademy.net/event/plato-gala-2024/
LOCATION:Clearwater\, 2045 Palmetto Street\, Clearwater\, FL\, 33765\, United States
CATEGORIES:All Campus Locations,Clearwater,Largo,Palm Harbor,Pinellas Park,Seminole,St. Petersburg,Tampa,Tarpon Springs,Trinity
ATTACH;FMTTYPE=image/webp:https://platoacademy.net/wp-content/uploads/2024/01/plato-academy-schools-gala-2024.webp
END:VEVENT
BEGIN:VEVENT
DTSTART;VALUE=DATE:20240311
DTEND;VALUE=DATE:20240316
DTSTAMP:20260425T062008
CREATED:20240219T195837Z
LAST-MODIFIED:20240219T200014Z
UID:240402-1710115200-1710547199@platoacademy.net
SUMMARY:Spring Break - March 11-15
DESCRIPTION:Spring Break
URL:https://platoacademy.net/event/spring-break/
CATEGORIES:Clearwater,Largo,Palm Harbor,Pinellas Park,Seminole,St. Petersburg,Tampa,Tarpon Springs
ATTACH;FMTTYPE=image/webp:https://platoacademy.net/wp-content/uploads/2024/02/Spring-Break.webp
END:VEVENT
BEGIN:VEVENT
DTSTART;TZID=UTC:20240317T130000
DTEND;TZID=UTC:20240317T150000
DTSTAMP:20260425T062008
CREATED:20240124T214834Z
LAST-MODIFIED:20250224T144037Z
UID:239779-1710680400-1710687600@platoacademy.net
SUMMARY:Greek Parade at Tarpon Springs
DESCRIPTION:Join us for the 2024 Annual Greek Parade in Tarpon Springs \non Sunday\, March 17\, starting at 1 p.m. \nThe parade route\, heading north on Alt. U.S. 19\, west on Dodecanese Boulevard\, and south on Roosevelt Boulevard\, will be a vibrant display of Greek pride\, closing to traffic until approximately 3 p.m. \nPlato Academy is thrilled to embrace this tradition once more and invites our families to be part of the excitement. This is your chance to join our students\, staff\, and Greek teachers in creating the most spectacular street parade ever. We’ll be gathering at 12:00 on Lemon Street in Tarpon Springs\, with a Plato Academy float. \n \n  \n  \n  \n 
URL:https://platoacademy.net/event/greek-parade-picnic/
CATEGORIES:All Campus Locations,Clearwater,Largo,Palm Harbor,Pinellas Park,Seminole,St. Petersburg,Tampa,Tarpon Springs,Trinity
ATTACH;FMTTYPE=image/webp:https://platoacademy.net/wp-content/uploads/2024/01/Greek-parade.webp
END:VEVENT
BEGIN:VEVENT
DTSTART;TZID=UTC:20240328T080000
DTEND;TZID=UTC:20240328T170000
DTSTAMP:20260425T062008
CREATED:20240326T174731Z
LAST-MODIFIED:20240326T174731Z
UID:241575-1711612800-1711645200@platoacademy.net
SUMMARY:Spring Pictures on March 28th
DESCRIPTION:Vernon Photography will be taking Spring pictures on Thursday\, March 28\, 2024. \nWe are re-introducing ONLINE PREPAY. \n\nThis is the least expensive way to order\nSee & Choose your BACKGROUND\nChoose your PACKAGE\n\nGo to: www.VernonPhoto.com/SpringPrepay (You do not need to send anything with your child on picture day if you prepay). If you have any questions\, please feel free to contact Vernon Photography directly at: Support@VernonPhoto.com
URL:https://platoacademy.net/event/spring-pictures-on-march-28th/
LOCATION:Palm Harbor\, 1601 Curlew Road\, Palm Harbor\, FL\, 34683\, United States
CATEGORIES:Palm Harbor
ATTACH;FMTTYPE=image/webp:https://platoacademy.net/wp-content/uploads/2024/03/spring-photos.webp
END:VEVENT
BEGIN:VEVENT
DTSTART;VALUE=DATE:20240329
DTEND;VALUE=DATE:20240330
DTSTAMP:20260425T062008
CREATED:20240326T031145Z
LAST-MODIFIED:20240328T033158Z
UID:241571-1711670400-1711756799@platoacademy.net
SUMMARY:Non Student Day - 3/29/2024
DESCRIPTION:
URL:https://platoacademy.net/event/no-school-on-3-29-2024/
CATEGORIES:Clearwater,Largo,Palm Harbor,Pinellas Park,Seminole,St. Petersburg,Tampa,Tarpon Springs
ATTACH;FMTTYPE=image/webp:https://platoacademy.net/wp-content/uploads/2024/03/no-school-day.webp
END:VEVENT
END:VCALENDAR