BEGIN:VCALENDAR
VERSION:2.0
PRODID:-//Plato Academy - ECPv6.15.20//NONSGML v1.0//EN
CALSCALE:GREGORIAN
METHOD:PUBLISH
X-WR-CALNAME:Plato Academy
X-ORIGINAL-URL:https://platoacademy.net
X-WR-CALDESC:Events for Plato Academy
REFRESH-INTERVAL;VALUE=DURATION:PT1H
X-Robots-Tag:noindex
X-PUBLISHED-TTL:PT1H
BEGIN:VTIMEZONE
TZID:UTC
BEGIN:STANDARD
TZOFFSETFROM:+0000
TZOFFSETTO:+0000
TZNAME:UTC
DTSTART:20230101T000000
END:STANDARD
END:VTIMEZONE
BEGIN:VEVENT
DTSTART;VALUE=DATE:20241028
DTEND;VALUE=DATE:20241102
DTSTAMP:20260422T233527
CREATED:20241013T230349Z
LAST-MODIFIED:20241013T230449Z
UID:244526-1730073600-1730505599@platoacademy.net
SUMMARY:Red Ribbon Week
DESCRIPTION:Plato Academy celebrates Red Ribbon Week.\nhttps://www.redribbon.org/
URL:https://platoacademy.net/event/ribbon/
LOCATION:Palm Harbor\, 1601 Curlew Road\, Palm Harbor\, FL\, 34683\, United States
CATEGORIES:Palm Harbor
ATTACH;FMTTYPE=image/webp:https://platoacademy.net/wp-content/uploads/2024/10/Red-Ribbon-week-Plato-Academy-PH.webp
END:VEVENT
BEGIN:VEVENT
DTSTART;TZID=UTC:20241113T090000
DTEND;TZID=UTC:20241113T150000
DTSTAMP:20260422T233527
CREATED:20240903T012015Z
LAST-MODIFIED:20241109T010655Z
UID:244073-1731488400-1731510000@platoacademy.net
SUMMARY:Great American Teach-In (GATI) - November 13\, 2024
DESCRIPTION:We’re excited to invite YOU to join us in our K-12 classrooms on November 13\, 2024\, for a special day of sharing and learning! Whether you’re passionate about your career\, love reading stories\, or have a fun activity to lead\, our students would love to learn from you.This is your chance to spend the day (or just a few hours) sharing what you LOVE to do! We welcome everyone—parents\, grandparents\, family members\, friends\, and hobbyists alike—to make this a hands-on\, engaging experience for our students.If you’re interested\, please sign up below or reach out with any questions. Know someone who might enjoy this opportunity? Spread the word! \n  \nSign Up
URL:https://platoacademy.net/event/gati-2024/
LOCATION:Palm Harbor\, 1601 Curlew Road\, Palm Harbor\, FL\, 34683\, United States
CATEGORIES:Palm Harbor
ATTACH;FMTTYPE=image/webp:https://platoacademy.net/wp-content/uploads/2024/09/GATI-Plato-Academy-Schools.webp
END:VEVENT
BEGIN:VEVENT
DTSTART;TZID=UTC:20241115T140000
DTEND;TZID=UTC:20241115T150000
DTSTAMP:20260422T233527
CREATED:20241108T203315Z
LAST-MODIFIED:20241108T204522Z
UID:244817-1731679200-1731682800@platoacademy.net
SUMMARY:Color Run
DESCRIPTION:Our Color Run fundraiser is underway and we need your support. Our goal is to raise the money needed to fund the programs and services we have planned for this year. We can do it with your help. \nLearn more: \nhttps://secure.smore.com/n/07gha-paph-color-run-kick-off
URL:https://platoacademy.net/event/color-run-palm-harbor/
LOCATION:Palm Harbor\, 1601 Curlew Road\, Palm Harbor\, FL\, 34683\, United States
CATEGORIES:Palm Harbor
ATTACH;FMTTYPE=image/webp:https://platoacademy.net/wp-content/uploads/2024/11/Color-Run.webp
END:VEVENT
BEGIN:VEVENT
DTSTART;TZID=UTC:20241123T190000
DTEND;TZID=UTC:20241123T210000
DTSTAMP:20260422T233527
CREATED:20240909T174630Z
LAST-MODIFIED:20240909T174740Z
UID:244146-1732388400-1732395600@platoacademy.net
SUMMARY:Plato Tampa Bay Lightning Game
DESCRIPTION:For this school year’s fall event\, the All-Pro Dad Program is proud and excited to be hosting an evening of fun for the WHOLE family! \nThis is our 10th year teaming up with the Tampa Bay Lightning! On Saturday\, November 23rd\, EVERYONE is invited to an awesome time watching our Stanley Cup Champions\, The Tampa Bay Lightning tear up the ice as they defend against the Dallas Stars. Attached is a flyer. Please book your tickets using the following link: tinyurl.com/hockeygame2024 \nThe Tampa Bay Lightning have offered us an incredible deal for center ice and end rink seating. Tickets for our group start at only $55 each (kids under 2 years old are free). We have 3 ticket options for you to choose from. If that was not a good enough deal\, each one of us gets a free game day gift PLUS our group will have an “EXCLUSIVE” pregame party inside the Arena! \nWait\, there is more. A group of VERY LUCKY kids from our group will have a very amazing “fan experience”. Here is what the Lighting has put together: \n\nKids will get to sit in the penalty box during pregame warmups.\nKids will get to ride the Zamboni during intermission.\nKids will get to start the Tesla Coils and create Lightning.\nKids will get to high five the players as they take the ice.\n\nClick for Details and Tickets\n  \n  \n 
URL:https://platoacademy.net/event/plato-tampa-bay-lightning-game/
CATEGORIES:Clearwater,Largo,Palm Harbor,Pinellas Park,Seminole,St. Petersburg,Tampa,Tarpon Springs,Trinity
ATTACH;FMTTYPE=image/webp:https://platoacademy.net/wp-content/uploads/2024/09/all-pro-dads-2024.webp
END:VEVENT
END:VCALENDAR