BEGIN:VCALENDAR
VERSION:2.0
PRODID:-//Plato Academy - ECPv6.15.20//NONSGML v1.0//EN
CALSCALE:GREGORIAN
METHOD:PUBLISH
X-ORIGINAL-URL:https://platoacademy.net
X-WR-CALDESC:Events for Plato Academy
REFRESH-INTERVAL;VALUE=DURATION:PT1H
X-Robots-Tag:noindex
X-PUBLISHED-TTL:PT1H
BEGIN:VTIMEZONE
TZID:America/New_York
BEGIN:DAYLIGHT
TZOFFSETFROM:-0500
TZOFFSETTO:-0400
TZNAME:EDT
DTSTART:20240310T070000
END:DAYLIGHT
BEGIN:STANDARD
TZOFFSETFROM:-0400
TZOFFSETTO:-0500
TZNAME:EST
DTSTART:20241103T060000
END:STANDARD
BEGIN:DAYLIGHT
TZOFFSETFROM:-0500
TZOFFSETTO:-0400
TZNAME:EDT
DTSTART:20250309T070000
END:DAYLIGHT
BEGIN:STANDARD
TZOFFSETFROM:-0400
TZOFFSETTO:-0500
TZNAME:EST
DTSTART:20251102T060000
END:STANDARD
BEGIN:DAYLIGHT
TZOFFSETFROM:-0500
TZOFFSETTO:-0400
TZNAME:EDT
DTSTART:20260308T070000
END:DAYLIGHT
BEGIN:STANDARD
TZOFFSETFROM:-0400
TZOFFSETTO:-0500
TZNAME:EST
DTSTART:20261101T060000
END:STANDARD
END:VTIMEZONE
BEGIN:VEVENT
DTSTART;TZID=America/New_York:20250716T130000
DTEND;TZID=America/New_York:20250716T173000
DTSTAMP:20260421T170554
CREATED:20250610T224306Z
LAST-MODIFIED:20250610T224306Z
UID:248470-1752670800-1752687000@platoacademy.net
SUMMARY:Uniform Pop-Up Sale! (Palm Harbor)
DESCRIPTION:Get Ready for the New School Year – Uniform Pop-Up Sale!\n\n\n\nPlato Academy Palm Harbor will host a Pop-Up Uniform Sale in partnership with Ibiley Uniforms on Wednesday\, July 16th\, from 1:00 PM to 5:30 PM in Reister Hall.\n\n\nThis is a great opportunity to purchase all required uniforms for the 2025–2026 school year in one convenient location.\n\n\nPlease note: Dress code enforcement will be a priority this year. Students are expected to be in full compliance throughout the school year. Make sure your child has the appropriate number of uniform shirts and shorts/pants.\n\n\n\nUse Code BUY4GET5
URL:https://platoacademy.net/event/uniform-pop-up-sale-palm-harbor/
LOCATION:Palm Harbor\, 1601 Curlew Road\, Palm Harbor\, FL\, 34683\, United States
CATEGORIES:Palm Harbor
ATTACH;FMTTYPE=image/webp:https://platoacademy.net/wp-content/uploads/2025/06/Uniforms-Pop-Up-Store.webp
END:VEVENT
END:VCALENDAR