BEGIN:VCALENDAR
VERSION:2.0
PRODID:-//Plato Academy - ECPv6.15.20//NONSGML v1.0//EN
CALSCALE:GREGORIAN
METHOD:PUBLISH
X-WR-CALNAME:Plato Academy
X-ORIGINAL-URL:https://platoacademy.net
X-WR-CALDESC:Events for Plato Academy
REFRESH-INTERVAL;VALUE=DURATION:PT1H
X-Robots-Tag:noindex
X-PUBLISHED-TTL:PT1H
BEGIN:VTIMEZONE
TZID:UTC
BEGIN:STANDARD
TZOFFSETFROM:+0000
TZOFFSETTO:+0000
TZNAME:UTC
DTSTART:20220101T000000
END:STANDARD
END:VTIMEZONE
BEGIN:VEVENT
DTSTART;VALUE=DATE:20230907
DTEND;VALUE=DATE:20230916
DTSTAMP:20260425T183654
CREATED:20230907T015910Z
LAST-MODIFIED:20230907T015910Z
UID:237373-1694044800-1694822399@platoacademy.net
SUMMARY:F.A.S.T. Assessment PM1
DESCRIPTION:
URL:https://platoacademy.net/event/f-a-s-t-assessment-pm1/
CATEGORIES:Palm Harbor
ATTACH;FMTTYPE=image/webp:https://platoacademy.net/wp-content/uploads/2023/09/fast_ph.webp
END:VEVENT
BEGIN:VEVENT
DTSTART;TZID=UTC:20230912T180000
DTEND;TZID=UTC:20230912T190000
DTSTAMP:20260425T183654
CREATED:20230907T020637Z
LAST-MODIFIED:20230907T020812Z
UID:237376-1694541600-1694545200@platoacademy.net
SUMMARY:Curriculum Night
DESCRIPTION:Elementary K-5th on September 12th at 6:00 & 6:30 pm \nIf you have students in Kindergarten through 5th grade\, please plan to join us on Tuesday\, September 12th for a PARENTS ONLY event to learn more about the curriculum and classroom! We will be holding TWO sessions that are the same to accommodate families with multiple students in different grade levels. You can attend either time and the information will be the same! Please make time to join us in person as this is a great way to take a dive into the important happenings for this year in that particular classroom\, but if you are unable to join us – please know that we will be sharing the presentations with all the information afterwards and you will be able to have time in your face-to-face conferences with your student’s teacher soon as well!
URL:https://platoacademy.net/event/curriculum-night/
LOCATION:Palm Harbor\, 1601 Curlew Road\, Palm Harbor\, FL\, 34683\, United States
CATEGORIES:Palm Harbor
ATTACH;FMTTYPE=image/webp:https://platoacademy.net/wp-content/uploads/2023/09/curriculum-night.webp
END:VEVENT
END:VCALENDAR