BEGIN:VCALENDAR
VERSION:2.0
PRODID:-//Plato Academy - ECPv6.15.20//NONSGML v1.0//EN
CALSCALE:GREGORIAN
METHOD:PUBLISH
X-WR-CALNAME:Plato Academy
X-ORIGINAL-URL:https://platoacademy.net
X-WR-CALDESC:Events for Plato Academy
REFRESH-INTERVAL;VALUE=DURATION:PT1H
X-Robots-Tag:noindex
X-PUBLISHED-TTL:PT1H
BEGIN:VTIMEZONE
TZID:UTC
BEGIN:STANDARD
TZOFFSETFROM:+0000
TZOFFSETTO:+0000
TZNAME:UTC
DTSTART:20220101T000000
END:STANDARD
END:VTIMEZONE
BEGIN:VEVENT
DTSTART;TZID=UTC:20230916T090000
DTEND;TZID=UTC:20230916T120000
DTSTAMP:20260425T183638
CREATED:20230907T021402Z
LAST-MODIFIED:20230907T021402Z
UID:237382-1694854800-1694865600@platoacademy.net
SUMMARY:Honeymoon Island State Park Beach Cleanup
DESCRIPTION:Join us for our Community Outreach \nSign up to Join
URL:https://platoacademy.net/event/honeymoon-island-state-park-beach-cleanup/
CATEGORIES:Palm Harbor
ATTACH;FMTTYPE=image/webp:https://platoacademy.net/wp-content/uploads/2023/09/beach.webp
END:VEVENT
END:VCALENDAR