BEGIN:VCALENDAR
VERSION:2.0
PRODID:-//Plato Academy - ECPv6.15.20//NONSGML v1.0//EN
CALSCALE:GREGORIAN
METHOD:PUBLISH
X-WR-CALNAME:Plato Academy
X-ORIGINAL-URL:https://platoacademy.net
X-WR-CALDESC:Events for Plato Academy
REFRESH-INTERVAL;VALUE=DURATION:PT1H
X-Robots-Tag:noindex
X-PUBLISHED-TTL:PT1H
BEGIN:VTIMEZONE
TZID:UTC
BEGIN:STANDARD
TZOFFSETFROM:+0000
TZOFFSETTO:+0000
TZNAME:UTC
DTSTART:20220101T000000
END:STANDARD
END:VTIMEZONE
BEGIN:VEVENT
DTSTART;VALUE=DATE:20231106
DTEND;VALUE=DATE:20231111
DTSTAMP:20260425T140722
CREATED:20231106T224717Z
LAST-MODIFIED:20231106T224717Z
UID:238066-1699228800-1699660799@platoacademy.net
SUMMARY:FEAST Food Pantry Drive
DESCRIPTION:This week\, Plato Academy Palm Harbor and St. Alfred’s will be collecting non perishable food donations. Please drop off to your homeroom class. Any non perishable food is accepted\, such as peanut butter\, jelly\, cereal\, canned meat\, pasta\, canned fruit\, veggies and soup. \nhttps://feastfoodpantry.org/
URL:https://platoacademy.net/event/feast-food-pantry-drive/
LOCATION:Palm Harbor\, 1601 Curlew Road\, Palm Harbor\, FL\, 34683\, United States
CATEGORIES:Palm Harbor
ATTACH;FMTTYPE=image/webp:https://platoacademy.net/wp-content/uploads/2023/11/feast.webp
END:VEVENT
BEGIN:VEVENT
DTSTART;TZID=UTC:20231110T130000
DTEND;TZID=UTC:20231110T153000
DTSTAMP:20260425T140722
CREATED:20231102T201307Z
LAST-MODIFIED:20231102T201307Z
UID:238005-1699621200-1699630200@platoacademy.net
SUMMARY:Color Run - Plato Palm Harbor
DESCRIPTION:We are so excited to be kicking off our annual COLOR RUN! \nUse the link below to register: \nRegistration: https://mybooster.com/v3
URL:https://platoacademy.net/event/color-run-plato-palm-harbor/
LOCATION:Palm Harbor\, 1601 Curlew Road\, Palm Harbor\, FL\, 34683\, United States
CATEGORIES:Palm Harbor
ATTACH;FMTTYPE=image/webp:https://platoacademy.net/wp-content/uploads/2023/10/color-run.webp
END:VEVENT
END:VCALENDAR