BEGIN:VCALENDAR
VERSION:2.0
PRODID:-//Plato Academy - ECPv6.15.20//NONSGML v1.0//EN
CALSCALE:GREGORIAN
METHOD:PUBLISH
X-ORIGINAL-URL:https://platoacademy.net
X-WR-CALDESC:Events for Plato Academy
REFRESH-INTERVAL;VALUE=DURATION:PT1H
X-Robots-Tag:noindex
X-PUBLISHED-TTL:PT1H
BEGIN:VTIMEZONE
TZID:UTC
BEGIN:STANDARD
TZOFFSETFROM:+0000
TZOFFSETTO:+0000
TZNAME:UTC
DTSTART:20220101T000000
END:STANDARD
END:VTIMEZONE
BEGIN:VEVENT
DTSTART;TZID=UTC:20231115T080000
DTEND;TZID=UTC:20231115T143000
DTSTAMP:20260425T141047
CREATED:20231010T230421Z
LAST-MODIFIED:20231016T183928Z
UID:237635-1700035200-1700058600@platoacademy.net
SUMMARY:The Great American Teach In (GATI)
DESCRIPTION:Do you love what you do? Join us to share about it on November 15\, 2023. \nSign up: https://docs.google.com/forms/d/e/1FAIpQLSfpzMOEY_rR7vNqKDqsP98gQj0mkXkJ3hEpoLhBn76h4czQiQ/viewform
URL:https://platoacademy.net/event/the-great-american-teach-in-gati/
LOCATION:Palm Harbor\, 1601 Curlew Road\, Palm Harbor\, FL\, 34683\, United States
CATEGORIES:Palm Harbor
ATTACH;FMTTYPE=image/webp:https://platoacademy.net/wp-content/uploads/2023/10/gati.webp
END:VEVENT
END:VCALENDAR