BEGIN:VCALENDAR
VERSION:2.0
PRODID:-//Plato Academy - ECPv6.15.20//NONSGML v1.0//EN
CALSCALE:GREGORIAN
METHOD:PUBLISH
X-WR-CALNAME:Plato Academy
X-ORIGINAL-URL:https://platoacademy.net
X-WR-CALDESC:Events for Plato Academy
REFRESH-INTERVAL;VALUE=DURATION:PT1H
X-Robots-Tag:noindex
X-PUBLISHED-TTL:PT1H
BEGIN:VTIMEZONE
TZID:UTC
BEGIN:STANDARD
TZOFFSETFROM:+0000
TZOFFSETTO:+0000
TZNAME:UTC
DTSTART:20220101T000000
END:STANDARD
END:VTIMEZONE
BEGIN:VEVENT
DTSTART;TZID=UTC:20231116T110000
DTEND;TZID=UTC:20231116T220000
DTSTAMP:20260425T140009
CREATED:20231106T225345Z
LAST-MODIFIED:20231106T225345Z
UID:238069-1700132400-1700172000@platoacademy.net
SUMMARY:Plato Palm Harbor Spirit Night
DESCRIPTION:Order dine in\, take out\, or delivery from Madison Avenue Pizza on Thursday\, November 16 from 11a. to 10pm and 20% of proceeds will go to Plato Academy. Show the following flyer to the cashier.
URL:https://platoacademy.net/event/plato-palm-harbor-spirit-night/
LOCATION:Palm Harbor\, 1601 Curlew Road\, Palm Harbor\, FL\, 34683\, United States
CATEGORIES:Palm Harbor
ATTACH;FMTTYPE=image/webp:https://platoacademy.net/wp-content/uploads/2023/11/ph-spirit-night.webp
END:VEVENT
END:VCALENDAR