BEGIN:VCALENDAR
VERSION:2.0
PRODID:-//Plato Academy - ECPv6.15.20//NONSGML v1.0//EN
CALSCALE:GREGORIAN
METHOD:PUBLISH
X-WR-CALNAME:Plato Academy
X-ORIGINAL-URL:https://platoacademy.net
X-WR-CALDESC:Events for Plato Academy
REFRESH-INTERVAL;VALUE=DURATION:PT1H
X-Robots-Tag:noindex
X-PUBLISHED-TTL:PT1H
BEGIN:VTIMEZONE
TZID:UTC
BEGIN:STANDARD
TZOFFSETFROM:+0000
TZOFFSETTO:+0000
TZNAME:UTC
DTSTART:20230101T000000
END:STANDARD
END:VTIMEZONE
BEGIN:VEVENT
DTSTART;VALUE=DATE:20240329
DTEND;VALUE=DATE:20240330
DTSTAMP:20260425T075350
CREATED:20240326T031145Z
LAST-MODIFIED:20240328T033158Z
UID:241571-1711670400-1711756799@platoacademy.net
SUMMARY:Non Student Day - 3/29/2024
DESCRIPTION:
URL:https://platoacademy.net/event/no-school-on-3-29-2024/
CATEGORIES:Clearwater,Largo,Palm Harbor,Pinellas Park,Seminole,St. Petersburg,Tampa,Tarpon Springs
ATTACH;FMTTYPE=image/webp:https://platoacademy.net/wp-content/uploads/2024/03/no-school-day.webp
END:VEVENT
END:VCALENDAR