BEGIN:VCALENDAR
VERSION:2.0
PRODID:-//Plato Academy - ECPv6.15.20//NONSGML v1.0//EN
CALSCALE:GREGORIAN
METHOD:PUBLISH
X-WR-CALNAME:Plato Academy
X-ORIGINAL-URL:https://platoacademy.net
X-WR-CALDESC:Events for Plato Academy
REFRESH-INTERVAL;VALUE=DURATION:PT1H
X-Robots-Tag:noindex
X-PUBLISHED-TTL:PT1H
BEGIN:VTIMEZONE
TZID:UTC
BEGIN:STANDARD
TZOFFSETFROM:+0000
TZOFFSETTO:+0000
TZNAME:UTC
DTSTART:20230101T000000
END:STANDARD
END:VTIMEZONE
BEGIN:VEVENT
DTSTART;TZID=UTC:20241113T090000
DTEND;TZID=UTC:20241113T150000
DTSTAMP:20260423T011431
CREATED:20240903T012015Z
LAST-MODIFIED:20241109T010655Z
UID:244073-1731488400-1731510000@platoacademy.net
SUMMARY:Great American Teach-In (GATI) - November 13\, 2024
DESCRIPTION:We’re excited to invite YOU to join us in our K-12 classrooms on November 13\, 2024\, for a special day of sharing and learning! Whether you’re passionate about your career\, love reading stories\, or have a fun activity to lead\, our students would love to learn from you.This is your chance to spend the day (or just a few hours) sharing what you LOVE to do! We welcome everyone—parents\, grandparents\, family members\, friends\, and hobbyists alike—to make this a hands-on\, engaging experience for our students.If you’re interested\, please sign up below or reach out with any questions. Know someone who might enjoy this opportunity? Spread the word! \n  \nSign Up
URL:https://platoacademy.net/event/gati-2024/
LOCATION:Palm Harbor\, 1601 Curlew Road\, Palm Harbor\, FL\, 34683\, United States
CATEGORIES:Palm Harbor
ATTACH;FMTTYPE=image/webp:https://platoacademy.net/wp-content/uploads/2024/09/GATI-Plato-Academy-Schools.webp
END:VEVENT
END:VCALENDAR