BEGIN:VCALENDAR
VERSION:2.0
PRODID:-//Plato Academy - ECPv6.15.20//NONSGML v1.0//EN
CALSCALE:GREGORIAN
METHOD:PUBLISH
X-ORIGINAL-URL:https://platoacademy.net
X-WR-CALDESC:Events for Plato Academy
REFRESH-INTERVAL;VALUE=DURATION:PT1H
X-Robots-Tag:noindex
X-PUBLISHED-TTL:PT1H
BEGIN:VTIMEZONE
TZID:America/New_York
BEGIN:DAYLIGHT
TZOFFSETFROM:-0500
TZOFFSETTO:-0400
TZNAME:EDT
DTSTART:20240310T070000
END:DAYLIGHT
BEGIN:STANDARD
TZOFFSETFROM:-0400
TZOFFSETTO:-0500
TZNAME:EST
DTSTART:20241103T060000
END:STANDARD
BEGIN:DAYLIGHT
TZOFFSETFROM:-0500
TZOFFSETTO:-0400
TZNAME:EDT
DTSTART:20250309T070000
END:DAYLIGHT
BEGIN:STANDARD
TZOFFSETFROM:-0400
TZOFFSETTO:-0500
TZNAME:EST
DTSTART:20251102T060000
END:STANDARD
BEGIN:DAYLIGHT
TZOFFSETFROM:-0500
TZOFFSETTO:-0400
TZNAME:EDT
DTSTART:20260308T070000
END:DAYLIGHT
BEGIN:STANDARD
TZOFFSETFROM:-0400
TZOFFSETTO:-0500
TZNAME:EST
DTSTART:20261101T060000
END:STANDARD
END:VTIMEZONE
BEGIN:VEVENT
DTSTART;TZID=America/New_York:20250910T170000
DTEND;TZID=America/New_York:20250910T193000
DTSTAMP:20260421T211716
CREATED:20250904T180545Z
LAST-MODIFIED:20250904T181514Z
UID:249534-1757523600-1757532600@platoacademy.net
SUMMARY:Curriculum Night - Parents Only (Plato Palm Harbor)
DESCRIPTION:Plato Academy families\, mark your calendars for Curriculum Night on Wednesday\, September 10. This is a parents-only evening designed to give you a deeper look into your child’s school day\, academic standards\, assessments\, and more. \nGrades K–5 will have two session options at 5:00 or 5:45 pm. \nGrades 6–8 will meet from 5:30 to 7:00 pm. \nEighth grade parents are invited to stay for a special High School Info Night from 7:00 to around 7:30\, where you’ll learn about high school options\, requirements\, and available programs. \nCome connect\, learn\, and earn volunteer hours while you’re at it.
URL:https://platoacademy.net/event/paph-curriculum-night-2025/
LOCATION:Palm Harbor\, 1601 Curlew Road\, Palm Harbor\, FL\, 34683\, United States
CATEGORIES:Palm Harbor
ATTACH;FMTTYPE=image/webp:https://platoacademy.net/wp-content/uploads/2025/08/curiculum-night.webp
END:VEVENT
END:VCALENDAR