BEGIN:VCALENDAR
VERSION:2.0
PRODID:-//Plato Academy - ECPv6.15.20//NONSGML v1.0//EN
CALSCALE:GREGORIAN
METHOD:PUBLISH
X-ORIGINAL-URL:https://platoacademy.net
X-WR-CALDESC:Events for Plato Academy
REFRESH-INTERVAL;VALUE=DURATION:PT1H
X-Robots-Tag:noindex
X-PUBLISHED-TTL:PT1H
BEGIN:VTIMEZONE
TZID:America/New_York
BEGIN:DAYLIGHT
TZOFFSETFROM:-0500
TZOFFSETTO:-0400
TZNAME:EDT
DTSTART:20240310T070000
END:DAYLIGHT
BEGIN:STANDARD
TZOFFSETFROM:-0400
TZOFFSETTO:-0500
TZNAME:EST
DTSTART:20241103T060000
END:STANDARD
BEGIN:DAYLIGHT
TZOFFSETFROM:-0500
TZOFFSETTO:-0400
TZNAME:EDT
DTSTART:20250309T070000
END:DAYLIGHT
BEGIN:STANDARD
TZOFFSETFROM:-0400
TZOFFSETTO:-0500
TZNAME:EST
DTSTART:20251102T060000
END:STANDARD
BEGIN:DAYLIGHT
TZOFFSETFROM:-0500
TZOFFSETTO:-0400
TZNAME:EDT
DTSTART:20260308T070000
END:DAYLIGHT
BEGIN:STANDARD
TZOFFSETFROM:-0400
TZOFFSETTO:-0500
TZNAME:EST
DTSTART:20261101T060000
END:STANDARD
END:VTIMEZONE
BEGIN:VEVENT
DTSTART;TZID=America/New_York:20251130T080000
DTEND;TZID=America/New_York:20251130T170000
DTSTAMP:20260422T060519
CREATED:20251201T011905Z
LAST-MODIFIED:20251201T011905Z
UID:251401-1764489600-1764522000@platoacademy.net
SUMMARY:Winter Holiday Show (Plato Palm Harbor)
DESCRIPTION:We are delighted to invite you to our Christmas concert\, “Christmas at the Movies\,” a musical journey through some of the most beloved holiday films. As part of our school’s cherished tradition\, the concert will also include Greek Christmas Carols\, directed by our Greek teachers\, Kyria Chyssanthi and Kyrios Vaggelis\, celebrating the upcoming winter holiday! \n  \nTuesday\, December 9th \n🕑 Kindergarten to 3rd Grade: 1:00 to 1:45 PM \n🕑 4th and 6th Grade: 2:00 to 2:30 PM \n \n  \nNote: limited parking\, no food or drinks allowed.
URL:https://platoacademy.net/event/palm-harbor-winter-holiday-show-2025/
CATEGORIES:Palm Harbor
ATTACH;FMTTYPE=image/webp:https://platoacademy.net/wp-content/uploads/2025/11/holiday-celebration.webp
END:VEVENT
END:VCALENDAR