BEGIN:VCALENDAR
VERSION:2.0
PRODID:-//Plato Academy - ECPv6.15.20//NONSGML v1.0//EN
CALSCALE:GREGORIAN
METHOD:PUBLISH
X-WR-CALNAME:Plato Academy
X-ORIGINAL-URL:https://platoacademy.net
X-WR-CALDESC:Events for Plato Academy
REFRESH-INTERVAL;VALUE=DURATION:PT1H
X-Robots-Tag:noindex
X-PUBLISHED-TTL:PT1H
BEGIN:VTIMEZONE
TZID:America/New_York
BEGIN:DAYLIGHT
TZOFFSETFROM:-0500
TZOFFSETTO:-0400
TZNAME:EDT
DTSTART:20240310T070000
END:DAYLIGHT
BEGIN:STANDARD
TZOFFSETFROM:-0400
TZOFFSETTO:-0500
TZNAME:EST
DTSTART:20241103T060000
END:STANDARD
BEGIN:DAYLIGHT
TZOFFSETFROM:-0500
TZOFFSETTO:-0400
TZNAME:EDT
DTSTART:20250309T070000
END:DAYLIGHT
BEGIN:STANDARD
TZOFFSETFROM:-0400
TZOFFSETTO:-0500
TZNAME:EST
DTSTART:20251102T060000
END:STANDARD
BEGIN:DAYLIGHT
TZOFFSETFROM:-0500
TZOFFSETTO:-0400
TZNAME:EDT
DTSTART:20260308T070000
END:DAYLIGHT
BEGIN:STANDARD
TZOFFSETFROM:-0400
TZOFFSETTO:-0500
TZNAME:EST
DTSTART:20261101T060000
END:STANDARD
END:VTIMEZONE
BEGIN:VEVENT
DTSTART;VALUE=DATE:20251215
DTEND;VALUE=DATE:20251220
DTSTAMP:20260422T055526
CREATED:20251215T003314Z
LAST-MODIFIED:20251215T004726Z
UID:251795-1765756800-1766188799@platoacademy.net
SUMMARY:Holiday Spirit Week (Plato Palm Harbor)
DESCRIPTION:Monday: Holiday Colors & Accessories!\n\n\nMonday: Holiday Colors & Accessories!\nTuesday: Grinch Green or CindyLou pink or anything Whoville!\nWednesday: Sparkle & Shine… holiday blues and glitters!\nThursday: Favorite Holiday Shirt or Sweater!\nFriday: Pajama Day!\n\nSchool Approved Dress Down Guidelines: \n\nNo leggings\, spandex\, or ripped jeans\nNo crop tops\, halter tops\, spaghetti straps\, or exposed midriff\nNo Flip flops\, Crocs\, slides\, slippers\, or unsafe footwear\nShoes should always be tennis shoes!\nShorts\, skirts\, or dresses shorter than fingertip length\n\nStudents who are NOT participating in the Holiday Dress-Up Days should wear uniforms! \nWhen in doubt – bring back up uniform! Parents will be called for students not meeting dress code!
URL:https://platoacademy.net/event/palm-harbor-holiday-spirit-week-2025/
LOCATION:Palm Harbor\, 1601 Curlew Road\, Palm Harbor\, FL\, 34683\, United States
CATEGORIES:Palm Harbor
ATTACH;FMTTYPE=image/webp:https://platoacademy.net/wp-content/uploads/2025/12/Holiday-Spirit-Week.webp
END:VEVENT
END:VCALENDAR