BEGIN:VCALENDAR
VERSION:2.0
PRODID:-//Plato Academy - ECPv6.15.20//NONSGML v1.0//EN
CALSCALE:GREGORIAN
METHOD:PUBLISH
X-ORIGINAL-URL:https://platoacademy.net
X-WR-CALDESC:Events for Plato Academy
REFRESH-INTERVAL;VALUE=DURATION:PT1H
X-Robots-Tag:noindex
X-PUBLISHED-TTL:PT1H
BEGIN:VTIMEZONE
TZID:UTC
BEGIN:STANDARD
TZOFFSETFROM:+0000
TZOFFSETTO:+0000
TZNAME:UTC
DTSTART:20220101T000000
END:STANDARD
END:VTIMEZONE
BEGIN:VEVENT
DTSTART;TZID=UTC:20231118T100000
DTEND;TZID=UTC:20231118T170000
DTSTAMP:20260421T071015
CREATED:20231106T213217Z
LAST-MODIFIED:20231115T031933Z
UID:238057-1700301600-1700326800@platoacademy.net
SUMMARY:Museum Free Admission
DESCRIPTION:The Ringling Museum is providing free admission to Pinellas students and their families on Saturday\, November 18th\, from 10 a.m. to 5 p.m. This initiative offers a wonderful opportunity for the local community to explore the museum’s rich cultural offerings and historical treasures.
URL:https://platoacademy.net/event/museum-free-admission/
LOCATION:FL
CATEGORIES:Clearwater,Largo,Palm Harbor,Pinellas Park,Seminole,St. Petersburg
ATTACH;FMTTYPE=image/webp:https://platoacademy.net/wp-content/uploads/2023/11/museum.webp
END:VEVENT
END:VCALENDAR