BEGIN:VCALENDAR
VERSION:2.0
PRODID:-//Plato Academy - ECPv6.15.20//NONSGML v1.0//EN
CALSCALE:GREGORIAN
METHOD:PUBLISH
X-WR-CALNAME:Plato Academy
X-ORIGINAL-URL:https://platoacademy.net
X-WR-CALDESC:Events for Plato Academy
REFRESH-INTERVAL;VALUE=DURATION:PT1H
X-Robots-Tag:noindex
X-PUBLISHED-TTL:PT1H
BEGIN:VTIMEZONE
TZID:America/New_York
BEGIN:DAYLIGHT
TZOFFSETFROM:-0500
TZOFFSETTO:-0400
TZNAME:EDT
DTSTART:20240310T070000
END:DAYLIGHT
BEGIN:STANDARD
TZOFFSETFROM:-0400
TZOFFSETTO:-0500
TZNAME:EST
DTSTART:20241103T060000
END:STANDARD
BEGIN:DAYLIGHT
TZOFFSETFROM:-0500
TZOFFSETTO:-0400
TZNAME:EDT
DTSTART:20250309T070000
END:DAYLIGHT
BEGIN:STANDARD
TZOFFSETFROM:-0400
TZOFFSETTO:-0500
TZNAME:EST
DTSTART:20251102T060000
END:STANDARD
BEGIN:DAYLIGHT
TZOFFSETFROM:-0500
TZOFFSETTO:-0400
TZNAME:EDT
DTSTART:20260308T070000
END:DAYLIGHT
BEGIN:STANDARD
TZOFFSETFROM:-0400
TZOFFSETTO:-0500
TZNAME:EST
DTSTART:20261101T060000
END:STANDARD
END:VTIMEZONE
BEGIN:VEVENT
DTSTART;TZID=America/New_York:20250802T130000
DTEND;TZID=America/New_York:20250802T150000
DTSTAMP:20260421T043353
CREATED:20250701T163521Z
LAST-MODIFIED:20250701T163624Z
UID:248551-1754139600-1754146800@platoacademy.net
SUMMARY:Back to School Fair - PASP Families
DESCRIPTION:Thank you to our friends at Cornerstone Church!\n\n\n\n\n\n\n\n\n  \n\nDear Plato Academy Saint Petersburg Families\,\n\n\nWe’re excited to kick off the new school year with our Back to School Fair\, a special event hosted by Cornerstone Church in support of our students and families. \nSaturday\, August 2nd\n1:00–3:00 PM\nPlato Academy Saint Petersburg Gym \nAs part of their ongoing commitment to our school community\, Cornerstone Church has generously provided essential school supplies for every student. After reviewing our supply lists\, they purchased: \n\n400 pairs of scissors\n240 boxes of crayons\n280 boxes of colored pencils\n\nThese items will be distributed to Plato Academy St. Petersburg students at the event to help ensure everyone starts the year ready to learn. \nThe Fair will also feature: \n\nBounce Houses\nA Craft Corner (make your own bookmarks!)\nGlitter Tattoos\nPopcorn\n\nWe are truly thankful for Cornerstone’s continued kindness and generosity. Their support helps make sure every child feels seen\, supported\, and set up for success. \nThere is no cost to attend. We can’t wait to see you there!
URL:https://platoacademy.net/event/back-to-school-fair-pasp-families/
LOCATION:St. Petersburg\, 6725 38th Ave N.\, St. Petersburg\, FL\, 33710\, United States
CATEGORIES:St. Petersburg
ATTACH;FMTTYPE=image/webp:https://platoacademy.net/wp-content/uploads/2025/07/Back-to-School-Fair.webp
END:VEVENT
BEGIN:VEVENT
DTSTART;TZID=America/New_York:20250806T100000
DTEND;TZID=America/New_York:20250806T170000
DTSTAMP:20260421T043353
CREATED:20250707T164753Z
LAST-MODIFIED:20250709T134811Z
UID:248586-1754474400-1754499600@platoacademy.net
SUMMARY:Used Uniform Sale (Plato St. Petersburg)
DESCRIPTION:Get ready for the school year and save big at the Plato Academy St. Petersburg Used Uniform Sale. Join us on Wednesday\, August 6\, from 10:00 AM to 5:00 PM to stock up on gently used schoolwear at unbeatable prices. \nHere’s what you’ll find: \n\nPolos\, shorts\, pants\, skirts\, dresses\, shirts\, and spirit tees for just $5 each\nJackets\, fleece\, sweaters\, pull-over hoodies\, and hooded zip-ups for $10\nPayment options include cash and card\, making checkout easy\n\nThis is a great opportunity to refresh your student’s uniform wardrobe while supporting the PTO. Come early for the best selection.
URL:https://platoacademy.net/event/sp-used-uniform-sale-august-2025/
LOCATION:St. Petersburg\, 6725 38th Ave N.\, St. Petersburg\, FL\, 33710\, United States
CATEGORIES:St. Petersburg
ATTACH;FMTTYPE=image/webp:https://platoacademy.net/wp-content/uploads/2023/05/used-uniforms-sale.webp
END:VEVENT
BEGIN:VEVENT
DTSTART;TZID=America/New_York:20250807T160000
DTEND;TZID=America/New_York:20250807T180000
DTSTAMP:20260421T043353
CREATED:20250617T192933Z
LAST-MODIFIED:20250617T192933Z
UID:248501-1754582400-1754589600@platoacademy.net
SUMMARY:Open House (St. Petersburg)
DESCRIPTION:Join us for our Open House on August 7! Meet your child’s teacher\, drop off school supplies\, and get ready for the new year by completing important paperwork. It’s a great chance to tour the classroom\, ask questions\, and make sure your student is all set for a successful start. We look forward to welcoming you and kicking off a fantastic school year together! \n  \n2025-2026 School Year Calendar: https://platoacademy.net/wp-content/uploads/2025/02/2025-2026-Plato-Academy-Schools-Calendar_.pdf
URL:https://platoacademy.net/event/open-house-st-petersburg/
LOCATION:St. Petersburg\, 6725 38th Ave N.\, St. Petersburg\, FL\, 33710\, United States
CATEGORIES:St. Petersburg
ATTACH;FMTTYPE=image/webp:https://platoacademy.net/wp-content/uploads/2025/05/Open-House.webp
END:VEVENT
BEGIN:VEVENT
DTSTART;TZID=America/New_York:20250827T180000
DTEND;TZID=America/New_York:20250827T190000
DTSTAMP:20260421T043353
CREATED:20250826T152403Z
LAST-MODIFIED:20250826T152403Z
UID:249461-1756317600-1756321200@platoacademy.net
SUMMARY:PTO Meeting (Plato St. Petersburg)
DESCRIPTION:We are excited to invite you to our first PTO meeting of the school year tomorrow night\, Wednesday\, August 27\, 2025\, from 6:00–7:00 PM. \nAt this meeting\, we’ll share important updates about the start of the school year and talk about the exciting year ahead. It’s a great opportunity to connect\, get involved\, and help make this school year a wonderful one for our students\, staff\, and families. \n  \nhttps://secure.smore.com/n/dk3zs-pto-win-a-sam-s-club-membership
URL:https://platoacademy.net/event/pasp-pto-meeting-1/
LOCATION:St. Petersburg\, 6725 38th Ave N.\, St. Petersburg\, FL\, 33710\, United States
CATEGORIES:St. Petersburg
ATTACH;FMTTYPE=image/webp:https://platoacademy.net/wp-content/uploads/2024/12/PTO-General-Meeting.webp
END:VEVENT
BEGIN:VEVENT
DTSTART;TZID=America/New_York:20250829T073000
DTEND;TZID=America/New_York:20250829T080000
DTSTAMP:20260421T043353
CREATED:20250828T135826Z
LAST-MODIFIED:20250828T135846Z
UID:249467-1756452600-1756454400@platoacademy.net
SUMMARY:All Pro Dad Meeting (Plato St. Petersburg)
DESCRIPTION:The next All Pro Dad meeting is on Friday\, August 29th at 7:30 AM. Join us for our roundtable to discuss the events for the year. \nhttps://secure.smore.com/n/pghu5-all-pro-dad-meeting-tomorrow
URL:https://platoacademy.net/event/st-petersburg-pro/
LOCATION:St. Petersburg\, 6725 38th Ave N.\, St. Petersburg\, FL\, 33710\, United States
CATEGORIES:St. Petersburg
ATTACH;FMTTYPE=image/webp:https://platoacademy.net/wp-content/uploads/2025/01/all-pro-dad.webp
END:VEVENT
END:VCALENDAR