BEGIN:VCALENDAR
VERSION:2.0
PRODID:-//Plato Academy - ECPv6.15.20//NONSGML v1.0//EN
CALSCALE:GREGORIAN
METHOD:PUBLISH
X-WR-CALNAME:Plato Academy
X-ORIGINAL-URL:https://platoacademy.net
X-WR-CALDESC:Events for Plato Academy
REFRESH-INTERVAL;VALUE=DURATION:PT1H
X-Robots-Tag:noindex
X-PUBLISHED-TTL:PT1H
BEGIN:VTIMEZONE
TZID:UTC
BEGIN:STANDARD
TZOFFSETFROM:+0000
TZOFFSETTO:+0000
TZNAME:UTC
DTSTART:20220101T000000
END:STANDARD
END:VTIMEZONE
BEGIN:VEVENT
DTSTART;TZID=UTC:20231206T093000
DTEND;TZID=UTC:20231206T120000
DTSTAMP:20260421T045614
CREATED:20231128T184624Z
LAST-MODIFIED:20231128T184736Z
UID:238458-1701855000-1701864000@platoacademy.net
SUMMARY:Holiday Performance - Plato Trinity
DESCRIPTION:Our performance will be held on December 6 at the Spirit of Grace Lutheran Church next to the school. \nYou may park in our designated parking lots and proceed right to the church for the performance. \nWe have wonderful Winter Wonderland festivities for families to enjoy as well sponsored by the PTO located in the school cafeteria.
URL:https://platoacademy.net/event/holiday-performance-plato-trinity/
LOCATION:Trinity\, 8810 Old County Road 54\, New Port Richey\, FL\, 34653\, United States
CATEGORIES:Trinity
ATTACH;FMTTYPE=image/webp:https://platoacademy.net/wp-content/uploads/2023/11/Holiday_performance.webp
END:VEVENT
BEGIN:VEVENT
DTSTART;TZID=UTC:20231211T080000
DTEND;TZID=UTC:20231215T150000
DTSTAMP:20260421T045614
CREATED:20231130T200749Z
LAST-MODIFIED:20231130T202034Z
UID:238514-1702281600-1702652400@platoacademy.net
SUMMARY:Sir Fun Bear’s Holiday Gift Shop  is coming to Plato Academy Trinity!
DESCRIPTION:Dear Parents\,\nWe are inviting you and your child to participate in the upcoming “Holiday Gift Shop®™ program at our school. This program makes it possible for children to experience the joy of choosing their own special holiday gifts for family and friends. \nThe “Holiday Gift Shop”” program will be set up at the school and supervised by our parent volunteers. They will help the children pick that perfect gift for the price they want… in a familiar\, comfortable atmosphere. \nWe believe this program will create wonderful memories for the children while teaching them to budget their money and make their own decisions. \nThere will be a large variety of gifts in different price ranges to choose from $0.25 to $20. Imagine the fun they will have surprising a loved one with a “secret” gift they bought… all by themselves! \nWe welcome you to be part of this great experience. A “money control” envelope is provided for you to help them decide they should buy gifts for and how much they should spend. You can even suggest ways that your child can earn extra shopping money. \n  \n \n  \nVolunteer Sign Up
URL:https://platoacademy.net/event/gift-shop/
LOCATION:Trinity\, 8810 Old County Road 54\, New Port Richey\, FL\, 34653\, United States
CATEGORIES:Trinity
ATTACH;FMTTYPE=image/webp:https://platoacademy.net/wp-content/uploads/2023/11/gift-shop.webp
END:VEVENT
END:VCALENDAR