BEGIN:VCALENDAR
VERSION:2.0
PRODID:-//Plato Academy - ECPv6.15.20//NONSGML v1.0//EN
CALSCALE:GREGORIAN
METHOD:PUBLISH
X-WR-CALNAME:Plato Academy
X-ORIGINAL-URL:https://platoacademy.net
X-WR-CALDESC:Events for Plato Academy
REFRESH-INTERVAL;VALUE=DURATION:PT1H
X-Robots-Tag:noindex
X-PUBLISHED-TTL:PT1H
BEGIN:VTIMEZONE
TZID:UTC
BEGIN:STANDARD
TZOFFSETFROM:+0000
TZOFFSETTO:+0000
TZNAME:UTC
DTSTART:20220101T000000
END:STANDARD
END:VTIMEZONE
BEGIN:VEVENT
DTSTART;TZID=UTC:20230808T160000
DTEND;TZID=UTC:20230808T180000
DTSTAMP:20260419T172107
CREATED:20230724T205916Z
LAST-MODIFIED:20230724T210123Z
UID:236791-1691510400-1691517600@platoacademy.net
SUMMARY:Open House
DESCRIPTION:Plato Academy is delighted to extend a warm welcome to our new and returning families. Our Open House is a special occasion designed exclusively for you to meet and greet with your child’s teachers\, administrators\, and experience the classrooms firsthand. It’s an opportunity to drop off supplies and get a glimpse of the vibrant learning spaces where your child will thrive. \nJoin us at Open House\, and… \n\nGet information about the upcoming school year.\nMeet teachers and staff.\nSee the classroom and campus.\nAsk questions and get ready for the first day of school!\n\n  \nSupply List: https://www.smore.com/e5q4x \n 
URL:https://platoacademy.net/event/open-house-5/
LOCATION:Trinity\, 8810 Old County Road 54\, New Port Richey\, FL\, 34653\, United States
CATEGORIES:Trinity
ATTACH;FMTTYPE=image/webp:https://platoacademy.net/wp-content/uploads/2023/06/open_house_2000x1350.webp
END:VEVENT
END:VCALENDAR