BEGIN:VCALENDAR
VERSION:2.0
PRODID:-//Plato Academy - ECPv6.15.20//NONSGML v1.0//EN
CALSCALE:GREGORIAN
METHOD:PUBLISH
X-ORIGINAL-URL:https://platoacademy.net
X-WR-CALDESC:Events for Plato Academy
REFRESH-INTERVAL;VALUE=DURATION:PT1H
X-Robots-Tag:noindex
X-PUBLISHED-TTL:PT1H
BEGIN:VTIMEZONE
TZID:UTC
BEGIN:STANDARD
TZOFFSETFROM:+0000
TZOFFSETTO:+0000
TZNAME:UTC
DTSTART:20230101T000000
END:STANDARD
END:VTIMEZONE
BEGIN:VEVENT
DTSTART;TZID=UTC:20241031T120000
DTEND;TZID=UTC:20241031T140000
DTSTAMP:20260422T083118
CREATED:20241002T204103Z
LAST-MODIFIED:20241022T194128Z
UID:244433-1730376000-1730383200@platoacademy.net
SUMMARY:Trunk or Treat
DESCRIPTION:  \n 
URL:https://platoacademy.net/event/trunk-or-treat-2/
LOCATION:Trinity\, 8810 Old County Road 54\, New Port Richey\, FL\, 34653\, United States
CATEGORIES:Trinity
ATTACH;FMTTYPE=image/webp:https://platoacademy.net/wp-content/uploads/2024/10/trunk-or-treat-1.webp
END:VEVENT
END:VCALENDAR