BEGIN:VCALENDAR
VERSION:2.0
PRODID:-//Plato Academy - ECPv6.15.20//NONSGML v1.0//EN
CALSCALE:GREGORIAN
METHOD:PUBLISH
X-WR-CALNAME:Plato Academy
X-ORIGINAL-URL:https://platoacademy.net
X-WR-CALDESC:Events for Plato Academy
REFRESH-INTERVAL;VALUE=DURATION:PT1H
X-Robots-Tag:noindex
X-PUBLISHED-TTL:PT1H
BEGIN:VTIMEZONE
TZID:UTC
BEGIN:STANDARD
TZOFFSETFROM:+0000
TZOFFSETTO:+0000
TZNAME:UTC
DTSTART:20230101T000000
END:STANDARD
END:VTIMEZONE
BEGIN:VEVENT
DTSTART;TZID=UTC:20241113T090000
DTEND;TZID=UTC:20241113T150000
DTSTAMP:20260425T170240
CREATED:20240903T015238Z
LAST-MODIFIED:20241109T010353Z
UID:244084-1731488400-1731510000@platoacademy.net
SUMMARY:Great American Teach-In (GATI) - Trinity
DESCRIPTION:Plato Academy Trinity’s Great American Teach-In\, also known as GATI\, is quickly approaching. This year it will be held on Wednesday\, November 13 and does not correspond with Pasco County Schools’ event. Our hope is that by choosing a different date\, it will allow for a greater number and variety of guest speakers. \nAll participants must have an approved Level 1 background check completed. If you would like to present at Plato Academy Trinity’s Great American Teach-In\, please contact our front office staff.
URL:https://platoacademy.net/event/trinity-gati-2024/
LOCATION:Trinity\, 8810 Old County Road 54\, New Port Richey\, FL\, 34653\, United States
CATEGORIES:Trinity
ATTACH;FMTTYPE=image/webp:https://platoacademy.net/wp-content/uploads/2024/09/GATI-Plato-Academy-Schools.webp
END:VEVENT
END:VCALENDAR