BEGIN:VCALENDAR
VERSION:2.0
PRODID:-//Plato Academy - ECPv6.15.20//NONSGML v1.0//EN
CALSCALE:GREGORIAN
METHOD:PUBLISH
X-ORIGINAL-URL:https://platoacademy.net
X-WR-CALDESC:Events for Plato Academy
REFRESH-INTERVAL;VALUE=DURATION:PT1H
X-Robots-Tag:noindex
X-PUBLISHED-TTL:PT1H
BEGIN:VTIMEZONE
TZID:UTC
BEGIN:STANDARD
TZOFFSETFROM:+0000
TZOFFSETTO:+0000
TZNAME:UTC
DTSTART:20230101T000000
END:STANDARD
END:VTIMEZONE
BEGIN:VEVENT
DTSTART;TZID=UTC:20241122T140000
DTEND;TZID=UTC:20241122T150000
DTSTAMP:20260422T230356
CREATED:20241108T210446Z
LAST-MODIFIED:20241109T011316Z
UID:244828-1732284000-1732287600@platoacademy.net
SUMMARY:Color Run
DESCRIPTION:Get ready to paint the town with fun at the most colorful event of the year—Color Run! Help our school raise some funds while watching students dive into a whirlwind of fun and vibrant hues! \nColor Run is on November 22nd! \n\nBut participants have to sign up by November 8th!\n\n\nhttps://getmovinfundhub.com/register\nSchool code: 605a0ee6ca394
URL:https://platoacademy.net/event/color-run-trinity/
LOCATION:Trinity\, 8810 Old County Road 54\, New Port Richey\, FL\, 34653\, United States
CATEGORIES:Trinity
ATTACH;FMTTYPE=image/webp:https://platoacademy.net/wp-content/uploads/2024/11/Color-Run.webp
END:VEVENT
END:VCALENDAR