BEGIN:VCALENDAR
VERSION:2.0
PRODID:-//Plato Academy - ECPv6.15.20//NONSGML v1.0//EN
CALSCALE:GREGORIAN
METHOD:PUBLISH
X-WR-CALNAME:Plato Academy
X-ORIGINAL-URL:https://platoacademy.net
X-WR-CALDESC:Events for Plato Academy
REFRESH-INTERVAL;VALUE=DURATION:PT1H
X-Robots-Tag:noindex
X-PUBLISHED-TTL:PT1H
BEGIN:VTIMEZONE
TZID:America/New_York
BEGIN:DAYLIGHT
TZOFFSETFROM:-0500
TZOFFSETTO:-0400
TZNAME:EDT
DTSTART:20240310T070000
END:DAYLIGHT
BEGIN:STANDARD
TZOFFSETFROM:-0400
TZOFFSETTO:-0500
TZNAME:EST
DTSTART:20241103T060000
END:STANDARD
BEGIN:DAYLIGHT
TZOFFSETFROM:-0500
TZOFFSETTO:-0400
TZNAME:EDT
DTSTART:20250309T070000
END:DAYLIGHT
BEGIN:STANDARD
TZOFFSETFROM:-0400
TZOFFSETTO:-0500
TZNAME:EST
DTSTART:20251102T060000
END:STANDARD
BEGIN:DAYLIGHT
TZOFFSETFROM:-0500
TZOFFSETTO:-0400
TZNAME:EDT
DTSTART:20260308T070000
END:DAYLIGHT
BEGIN:STANDARD
TZOFFSETFROM:-0400
TZOFFSETTO:-0500
TZNAME:EST
DTSTART:20261101T060000
END:STANDARD
END:VTIMEZONE
BEGIN:VEVENT
DTSTART;TZID=America/New_York:20250131T123000
DTEND;TZID=America/New_York:20250131T144500
DTSTAMP:20260424T155946
CREATED:20250114T233100Z
LAST-MODIFIED:20250123T172008Z
UID:245866-1738326600-1738334700@platoacademy.net
SUMMARY:4th Annual Plato Paints - Rescheduled
DESCRIPTION:We are hosting our 4th annual Plato Paints! Your student will have the opportunity to bring home all of the ceiling tiles that have painted when they graduate. The funds raised per grade level will stay with their grade and follow them until 8th grade and help fund their 8th grade trip. \nThis event is for middle school families only. \nOnline Payment Form
URL:https://platoacademy.net/event/paints2025/
LOCATION:St. Petersburg\, 6725 38th Ave N.\, St. Petersburg\, FL\, 33710\, United States
CATEGORIES:St. Petersburg
ATTACH;FMTTYPE=image/webp:https://platoacademy.net/wp-content/uploads/2025/01/Plato-Paints.webp
END:VEVENT
END:VCALENDAR